BEGIN:VCALENDAR
VERSION:2.0
PRODID:-//wp-events-plugin.com//7.2.3.1//EN
TZID:America/Phoenix
X-WR-TIMEZONE:America/Phoenix
BEGIN:VEVENT
UID:318@cacsoaz.org
DTSTART;TZID=America/Phoenix:20250123T180000
DTEND;TZID=America/Phoenix:20250123T201500
DTSTAMP:20250108T192058Z
URL:https://www.cacsoaz.org/events/trauma-informed-step-parenting-classes-
 in-person/
SUMMARY:Trauma-Informed STEP Parenting Classes (In Person)
DESCRIPTION:Adapted for parents and caregivers raising children who have ex
 perienced trauma. All materials provided. Offered in-person. Dinner and ch
 ildcare provided.\n\nContact Anna Loebe for more information or to registe
 r: aloebe@soazadvocacy.org.
CATEGORIES:Parent Workshop,Trainings
LOCATION:Children's Advocacy Center\, 2329 E Ajo Way\, Tucson\, AZ\, 85713\
 , United States
GEO:32.17874;-110.936153
X-APPLE-STRUCTURED-LOCATION;VALUE=URI;X-ADDRESS=2329 E Ajo Way\, Tucson\, A
 Z\, 85713\, United States;X-APPLE-RADIUS=100;X-TITLE=Children's Advocacy C
 enter:geo:32.17874,-110.936153
END:VEVENT
BEGIN:VTIMEZONE
TZID:America/Phoenix
X-LIC-LOCATION:America/Phoenix
BEGIN:STANDARD
DTSTART:20240124T180000
TZOFFSETFROM:-0700
TZOFFSETTO:-0700
TZNAME:MST
END:STANDARD
END:VTIMEZONE
END:VCALENDAR