BEGIN:VCALENDAR
VERSION:2.0
PRODID:-//wp-events-plugin.com//7.2.3.1//EN
TZID:America/Phoenix
X-WR-TIMEZONE:America/Phoenix
BEGIN:VEVENT
UID:178@cacsoaz.org
DTSTART;TZID=America/Phoenix:20240210T093000
DTEND;TZID=America/Phoenix:20240210T140000
DTSTAMP:20240105T154844Z
URL:https://www.cacsoaz.org/events/the-primal-wound-the-impact-of-separati
 on-from-mother/
SUMMARY:The Primal Wound: The Impact of Separation from Mother
DESCRIPTION:Featuring two parts: Why Children have Challenging Behaviors an
 d How to Respond to Challenging Behaviors. For parents and caregivers of c
 hildren who have been separated from their birth mothers.\n\nPresented by 
 Anna Loebe\, Ed.D.\n\nSpace is limited and no childcare is available. Plea
 se contact Anna for questions or to register: 520-724-5448 or aloebe@soaza
 dvocacy.org.
ATTACH;FMTTYPE=image/jpeg:https://www.cacsoaz.org/wp-content/uploads/2021/
 01/gustavo-alves-YOXSC4zRcxw-unsplash_800.jpg
CATEGORIES:Parent Workshop
LOCATION:Children's Advocacy Center\, 2329 E Ajo Way\, Tucson\, AZ\, 85713\
 , United States
GEO:32.178787;-110.936227
X-APPLE-STRUCTURED-LOCATION;VALUE=URI;X-ADDRESS=2329 E Ajo Way\, Tucson\, A
 Z\, 85713\, United States;X-APPLE-RADIUS=100;X-TITLE=Children's Advocacy C
 enter:geo:32.178787,-110.936227
END:VEVENT
BEGIN:VTIMEZONE
TZID:America/Phoenix
X-LIC-LOCATION:America/Phoenix
BEGIN:STANDARD
DTSTART:20230210T093000
TZOFFSETFROM:-0700
TZOFFSETTO:-0700
TZNAME:MST
END:STANDARD
END:VTIMEZONE
END:VCALENDAR