BEGIN:VCALENDAR
VERSION:2.0
PRODID:-//wp-events-plugin.com//7.2.3.1//EN
TZID:America/Phoenix
X-WR-TIMEZONE:America/Phoenix
BEGIN:VEVENT
UID:114@cacsoaz.org
DTSTART;TZID=America/Phoenix:20231005T180000
DTEND;TZID=America/Phoenix:20231005T200000
DTSTAMP:20230830T180231Z
URL:https://www.cacsoaz.org/events/stewards-of-children/
SUMMARY:Stewards of Children
DESCRIPTION:A workshop for all who have children in their lives whom they l
 ove. Stewards of Children teaches us how to prevent child sexual abuse thr
 ough safeguarding our spaces\, watching out for red flags and grooming beh
 aviors\, and teaching body safety to kids. A video based training with sto
 ries from real life survivors.
ATTACH;FMTTYPE=image/jpeg:https://www.cacsoaz.org/wp-content/uploads/2022/
 05/child-blue-box.jpg
CATEGORIES:Parent Workshop,Trainings
LOCATION:https://us06web.zoom.us/meeting/register/tZclcu-rrjsoGdHFlaS2VQvOj
 rSNqZ0T_a1b
END:VEVENT
BEGIN:VTIMEZONE
TZID:America/Phoenix
X-LIC-LOCATION:America/Phoenix
BEGIN:STANDARD
DTSTART:20221005T180000
TZOFFSETFROM:-0700
TZOFFSETTO:-0700
TZNAME:MST
END:STANDARD
END:VTIMEZONE
END:VCALENDAR