BEGIN:VCALENDAR
VERSION:2.0
PRODID:-//wp-events-plugin.com//7.2.3.1//EN
TZID:America/Phoenix
X-WR-TIMEZONE:America/Phoenix
BEGIN:VEVENT
UID:212@cacsoaz.org
DTSTART;TZID=America/Phoenix:20240112T100000
DTEND;TZID=America/Phoenix:20240112T120000
DTSTAMP:20240105T165102Z
URL:https://www.cacsoaz.org/events/stewards-of-children-virtual/
SUMMARY:Stewards of Children (virtual)
DESCRIPTION:Stewards of Children is a video-based training on how to protec
 t our children from child sexual abuse through safeguarding our spaces\, w
 atching out for red flag behavior\, and teaching children about boundaries
 . Told through the stories of survivors\, this is an important training fo
 r any adult who works with or cares about children.\n\nStewards of Childre
 n is a program of Darkness to Light. This training will be offered virtual
 ly. Please contact Sarah with any questions at sreed@soazadvocacy.org.
ATTACH;FMTTYPE=image/jpeg:https://www.cacsoaz.org/wp-content/uploads/2021/
 04/NCA-1-1.jpg
CATEGORIES:Parent Workshop,Trainings
LOCATION:https://us06web.zoom.us/meeting/register/tZAvceygrz0iHdxBCoPAYAbJa
 fs3sSViZf2D
END:VEVENT
BEGIN:VTIMEZONE
TZID:America/Phoenix
X-LIC-LOCATION:America/Phoenix
BEGIN:STANDARD
DTSTART:20230112T100000
TZOFFSETFROM:-0700
TZOFFSETTO:-0700
TZNAME:MST
END:STANDARD
END:VTIMEZONE
END:VCALENDAR