BEGIN:VCALENDAR
VERSION:2.0
PRODID:-//wp-events-plugin.com//7.2.3.1//EN
TZID:America/Phoenix
X-WR-TIMEZONE:America/Phoenix
BEGIN:VEVENT
UID:145@cacsoaz.org
DTSTART;TZID=America/Phoenix:20230926T160000
DTEND;TZID=America/Phoenix:20230926T180000
DTSTAMP:20230912T174953Z
URL:https://www.cacsoaz.org/events/stewards-of-children-spanish/
SUMMARY:Stewards of Children (Spanish)
DESCRIPTION:Stewards of Children es una capacitación para la prevención 
 del abuso sexual que se enfoca en cómo salvaguardar nuestros espacios\, e
 star atentos a las conductas de alerta y hablar con los niños sobre la se
 guridad corporal.
ATTACH;FMTTYPE=image/jpeg:https://www.cacsoaz.org/wp-content/uploads/2022/
 05/family-2021-09-01-17-09-23-utc.jpg
CATEGORIES:Parent Workshop,Spanish,Trainings
LOCATION:https://us06web.zoom.us/meeting/register/tZAud--qqjIuG9JxGTf3XUFX9
 cTI571XqYjv
END:VEVENT
BEGIN:VTIMEZONE
TZID:America/Phoenix
X-LIC-LOCATION:America/Phoenix
BEGIN:STANDARD
DTSTART:20220926T160000
TZOFFSETFROM:-0700
TZOFFSETTO:-0700
TZNAME:MST
END:STANDARD
END:VTIMEZONE
END:VCALENDAR