BEGIN:VCALENDAR
VERSION:2.0
PRODID:-//wp-events-plugin.com//7.2.3.1//EN
TZID:America/Phoenix
X-WR-TIMEZONE:America/Phoenix
BEGIN:VEVENT
UID:173@cacsoaz.org
DTSTART;TZID=America/Phoenix:20231114T120000
DTEND;TZID=America/Phoenix:20231114T140000
DTSTAMP:20231023T164709Z
URL:https://www.cacsoaz.org/events/stewards-of-children-2/
SUMMARY:Stewards of Children
DESCRIPTION:A workshop for all who have children in their lives whom they l
 ove. Stewards of Children teaches us how to prevent child sexual abuse thr
 ough safeguarding our spaces\, watching out for red flags and grooming beh
 aviors\, and teaching body safety to kids. A video based training with sto
 ries from real life survivors.\n\nContact Sarah Reed for more information:
  sreed@soazadvocacy.org.
ATTACH;FMTTYPE=image/jpeg:https://www.cacsoaz.org/wp-content/uploads/2022/
 05/baby-feet-in-the-parent-hands-2021-08-29-14-56-02-utc.jpg
LOCATION:https://us06web.zoom.us/meeting/register/tZcqf-2qpzosH92Xh7SZ2-IQj
 RqAQQZN75Yb
END:VEVENT
BEGIN:VTIMEZONE
TZID:America/Phoenix
X-LIC-LOCATION:America/Phoenix
BEGIN:STANDARD
DTSTART:20221114T120000
TZOFFSETFROM:-0700
TZOFFSETTO:-0700
TZNAME:MST
END:STANDARD
END:VTIMEZONE
END:VCALENDAR