BEGIN:VCALENDAR
VERSION:2.0
PRODID:-//wp-events-plugin.com//7.2.3.1//EN
TZID:America/Phoenix
X-WR-TIMEZONE:America/Phoenix
BEGIN:VEVENT
UID:213@cacsoaz.org
DTSTART;TZID=America/Phoenix:20240125T130000
DTEND;TZID=America/Phoenix:20240125T160000
DTSTAMP:20240105T171212Z
URL:https://www.cacsoaz.org/events/stand-up-for-your-community/
SUMMARY:Stand Up for Your Community
DESCRIPTION:Every year in Pima County\, law enforcement responds to over\n1
 1\,000 domestic violence incidents and 9\,000 child abuse cases.\n\nIf you
  were one - you are not alone.\n\nJoin us for a special resource fair for 
 survivors and their supporters.\nIncluding FREE onsite services from local
  organizations such as orders of protection\, emergency assistance\, and p
 olice reports.\n\nPlease contact Sarah for tabling information or question
 s: sreed@soazadvocacy.org.
ATTACH;FMTTYPE=image/jpeg:https://www.cacsoaz.org/wp-content/uploads/2023/
 09/ribbon.jpg
CATEGORIES:Outreach Events
LOCATION:El Pueblo Community Safety Hub\, 195 W Irvington Rd\, Building 15\
 , Tucson\, AZ\, United States
GEO:32.162229;-110.970316
X-APPLE-STRUCTURED-LOCATION;VALUE=URI;X-ADDRESS=195 W Irvington Rd\, Buildi
 ng 15\, Tucson\, AZ\, United States;X-APPLE-RADIUS=100;X-TITLE=El Pueblo C
 ommunity Safety Hub:geo:32.162229,-110.970316
END:VEVENT
BEGIN:VTIMEZONE
TZID:America/Phoenix
X-LIC-LOCATION:America/Phoenix
BEGIN:STANDARD
DTSTART:20230125T130000
TZOFFSETFROM:-0700
TZOFFSETTO:-0700
TZNAME:MST
END:STANDARD
END:VTIMEZONE
END:VCALENDAR