BEGIN:VCALENDAR
VERSION:2.0
PRODID:-//wp-events-plugin.com//7.2.3.1//EN
TZID:America/Phoenix
X-WR-TIMEZONE:America/Phoenix
BEGIN:VEVENT
UID:83@cacsoaz.org
DTSTART;TZID=America/Phoenix:20230816T110000
DTEND;TZID=America/Phoenix:20230816T130000
DTSTAMP:20230807T185715Z
URL:https://www.cacsoaz.org/events/resilience-film-showing/
SUMMARY:Resilience Film Showing
DESCRIPTION:The "Resilience" film documentary highlights the birth of the A
 dverse Childhood Experiences (ACES) movement\, the long-term effects of tr
 auma on children's developing brains and bodies\, and how community resili
 ence movements are combatting those negative effects by building stronger 
 families. An inspiring film that will move you into action.\n\nA 1-hour fi
 lm followed by a guided debrief\, offered via zoom.
ATTACH;FMTTYPE=image/jpeg:https://www.cacsoaz.org/wp-content/uploads/2023/
 08/resilience.png
CATEGORIES:Trainings
LOCATION:https://us06web.zoom.us/meeting/register/tZYvdequrTkiHdWJ474VgIkWt
 zHw7STBnY-w
END:VEVENT
BEGIN:VTIMEZONE
TZID:America/Phoenix
X-LIC-LOCATION:America/Phoenix
BEGIN:STANDARD
DTSTART:20220816T110000
TZOFFSETFROM:-0700
TZOFFSETTO:-0700
TZNAME:MST
END:STANDARD
END:VTIMEZONE
END:VCALENDAR