BEGIN:VCALENDAR
VERSION:2.0
PRODID:-//wp-events-plugin.com//7.2.3.1//EN
TZID:America/Phoenix
X-WR-TIMEZONE:America/Phoenix
BEGIN:VEVENT
UID:287@cacsoaz.org
DTSTART;TZID=America/Phoenix:20250115T120000
DTEND;TZID=America/Phoenix:20250115T133000
DTSTAMP:20250108T172134Z
URL:https://www.cacsoaz.org/events/resilience-film-showing-4/
SUMMARY:Resilience Film Showing
DESCRIPTION:A viewing of the hour long "Resilience" film documentary\, foll
 owed by a guided debrief. The "Resilience" film documents the birth of the
  Adverse Childhood Experiences (ACEs) movement and how people around the c
 ountry are using this information to build more resilient children\, famil
 ies and communities.\n\nRegister here: https://forms.gle/N7kPVdEJqredaYPH9
CATEGORIES:Parent Workshop,Trainings
END:VEVENT
BEGIN:VTIMEZONE
TZID:America/Phoenix
X-LIC-LOCATION:America/Phoenix
BEGIN:STANDARD
DTSTART:20240116T120000
TZOFFSETFROM:-0700
TZOFFSETTO:-0700
TZNAME:MST
END:STANDARD
END:VTIMEZONE
END:VCALENDAR