BEGIN:VCALENDAR
VERSION:2.0
PRODID:-//wp-events-plugin.com//7.2.3.1//EN
TZID:America/Phoenix
X-WR-TIMEZONE:America/Phoenix
BEGIN:VEVENT
UID:174@cacsoaz.org
DTSTART;TZID=America/Phoenix:20231205T160000
DTEND;TZID=America/Phoenix:20231205T180000
DTSTAMP:20231023T164947Z
URL:https://www.cacsoaz.org/events/resilience-film-showing-3/
SUMMARY:Resilience Film Showing
DESCRIPTION:The “Resilience” film documentary chronicles the birth of t
 he Adverse Childhood Experiences (ACEs) movement and how childhood trauma 
 causes long-term negative effects on children and adults. The film then lo
 oks at programs across the country that are actively combating those negat
 ive effects through building more resilient children\, families\, and comm
 unities. A 1-hour film followed by a guided debrief.\n\nPlease contact Sar
 ah Reed for more information: sreed@soazadvocacy.org.
ATTACH;FMTTYPE=image/jpeg:https://www.cacsoaz.org/wp-content/uploads/2023/
 08/resilience.png
CATEGORIES:Outreach Events,Trainings
LOCATION:https://us06web.zoom.us/meeting/register/tZcudOGopj4vGNFo7YoBUf0GN
 EtkSDmGczZb
END:VEVENT
BEGIN:VTIMEZONE
TZID:America/Phoenix
X-LIC-LOCATION:America/Phoenix
BEGIN:STANDARD
DTSTART:20221205T160000
TZOFFSETFROM:-0700
TZOFFSETTO:-0700
TZNAME:MST
END:STANDARD
END:VTIMEZONE
END:VCALENDAR