BEGIN:VCALENDAR
VERSION:2.0
PRODID:-//wp-events-plugin.com//7.2.3.1//EN
TZID:America/Phoenix
X-WR-TIMEZONE:America/Phoenix
BEGIN:VEVENT
UID:290@cacsoaz.org
DTSTART;TZID=America/Phoenix:20250226T153000
DTEND;TZID=America/Phoenix:20250226T170000
DTSTAMP:20250108T173552Z
URL:https://www.cacsoaz.org/events/principles-of-trauma-informed-care/
SUMMARY:Principles of Trauma-Informed Care
DESCRIPTION:An overview of the main principles of trauma-informed care and 
 how to implement them\, as well as a broadened understanding of trauma and
  the effects of trauma on survivors.\nRegister direct\, here: https://form
 s.gle/N7kPVdEJqredaYPH9
CATEGORIES:Parent Workshop,Trainings
END:VEVENT
BEGIN:VTIMEZONE
TZID:America/Phoenix
X-LIC-LOCATION:America/Phoenix
BEGIN:STANDARD
DTSTART:20240227T153000
TZOFFSETFROM:-0700
TZOFFSETTO:-0700
TZNAME:MST
END:STANDARD
END:VTIMEZONE
END:VCALENDAR