BEGIN:VCALENDAR
VERSION:2.0
PRODID:-//wp-events-plugin.com//7.2.3.1//EN
TZID:America/Phoenix
X-WR-TIMEZONE:America/Phoenix
BEGIN:VEVENT
UID:103@cacsoaz.org
DTSTART;TZID=America/Phoenix:20230821T180000
DTEND;TZID=America/Phoenix:20230821T200000
DTSTAMP:20230808T204017Z
URL:https://www.cacsoaz.org/events/parent-cafe/
SUMMARY:Parent Cafe
DESCRIPTION:This month's theme: Brewing a Strong Family. The Parent Cafe is
  a space for parents &amp\; caregivers to connect to other parents about t
 he joys and challenges of raising kids. *All participants will receive a S
 tarbucks gift card.
ATTACH;FMTTYPE=image/jpeg:https://www.cacsoaz.org/wp-content/uploads/2021/
 01/iStock-1249654513.jpg
CATEGORIES:Parent Workshop
LOCATION:https://us06web.zoom.us/meeting/register/tZYqcOusrD0pH9cdS_dKqDO1j
 X17gAwhVmOV
END:VEVENT
BEGIN:VTIMEZONE
TZID:America/Phoenix
X-LIC-LOCATION:America/Phoenix
BEGIN:STANDARD
DTSTART:20220821T180000
TZOFFSETFROM:-0700
TZOFFSETTO:-0700
TZNAME:MST
END:STANDARD
END:VTIMEZONE
END:VCALENDAR