BEGIN:VCALENDAR
VERSION:2.0
PRODID:-//wp-events-plugin.com//7.2.3.1//EN
TZID:America/Phoenix
X-WR-TIMEZONE:America/Phoenix
BEGIN:VEVENT
UID:106@cacsoaz.org
DTSTART;TZID=America/Phoenix:20231009T180000
DTEND;TZID=America/Phoenix:20231009T200000
DTSTAMP:20230912T173829Z
URL:https://www.cacsoaz.org/events/parent-cafe-2023-10-09/
SUMMARY:Parent Cafe
DESCRIPTION:Parent Cafes are an opportunity for parents and caregivers from
  all walks of life to gather together virtually and support one another th
 rough facilitated dialogue while practicing the protective factors. Held t
 he second Monday of the month from 6-8pm. A re-occurring gathering.
ATTACH;FMTTYPE=image/jpeg:https://www.cacsoaz.org/wp-content/uploads/2021/
 01/iStock-1249654513.jpg
CATEGORIES:Parent Workshop
LOCATION:https://us06web.zoom.us/meeting/register/tZ0pcuygrDkvHtJHIlaQNGunH
 peIOOsHEOWo
END:VEVENT
BEGIN:VTIMEZONE
TZID:America/Phoenix
X-LIC-LOCATION:America/Phoenix
BEGIN:STANDARD
DTSTART:20221009T180000
TZOFFSETFROM:-0700
TZOFFSETTO:-0700
TZNAME:MST
END:STANDARD
END:VTIMEZONE
END:VCALENDAR