BEGIN:VCALENDAR
VERSION:2.0
PRODID:-//wp-events-plugin.com//7.2.3.1//EN
TZID:America/Phoenix
X-WR-TIMEZONE:America/Phoenix
BEGIN:VEVENT
UID:281@cacsoaz.org
DTSTART;TZID=America/Phoenix:20240807T180000
DTEND;TZID=America/Phoenix:20240807T200000
DTSTAMP:20240702T170624Z
URL:https://www.cacsoaz.org/events/parent-cafe-2/
SUMMARY:Parent Cafe
DESCRIPTION:An opportunity for parents and caregivers of all ages to come\,
  meet\, and support one another. No child care available. Snacks provided.
 \n\nContact Jackie Ballesteros for more information: jballesteros@soazadvo
 cacy.org.
ATTACH;FMTTYPE=image/jpeg:https://www.cacsoaz.org/wp-content/uploads/2024/
 01/BookClub.jpg
CATEGORIES:Parent Workshop
END:VEVENT
BEGIN:VTIMEZONE
TZID:America/Phoenix
X-LIC-LOCATION:America/Phoenix
BEGIN:STANDARD
DTSTART:20230808T180000
TZOFFSETFROM:-0700
TZOFFSETTO:-0700
TZNAME:MST
END:STANDARD
END:VTIMEZONE
END:VCALENDAR