BEGIN:VCALENDAR
VERSION:2.0
PRODID:-//wp-events-plugin.com//7.2.3.1//EN
TZID:America/Phoenix
X-WR-TIMEZONE:America/Phoenix
BEGIN:VEVENT
UID:222@cacsoaz.org
DTSTART;TZID=America/Phoenix:20240221T130000
DTEND;TZID=America/Phoenix:20240221T150000
DTSTAMP:20240117T160014Z
URL:https://www.cacsoaz.org/events/introduction-to-the-5-protective-factor
 s/
SUMMARY:Introduction to the 5 Protective Factors
DESCRIPTION:Are you interested in having a strong\, healthy family\, with w
 ell-adjusted kids? The 5 Protective Factors for Strengthening Families hav
 e been shown to help increase family bonds\, produce well-developed kids\,
  and prevent child maltreatment. Come and see what it's all about. This tw
 o-hour virtual presentation also includes an overview of Adverse Childhood
  Experiences (ACEs) and the effects of childhood trauma\, as well as how w
 e can combat negative outcomes through implementing the protective factors
  in small but practical ways.\n\nContact Sarah for more information at sre
 ed@soazadvocacy.org.
ATTACH;FMTTYPE=image/jpeg:https://www.cacsoaz.org/wp-content/uploads/2022/
 05/afro-american-family-2021-08-29-16-11-55-utc.jpg
CATEGORIES:Parent Workshop,Trainings
LOCATION:https://us06web.zoom.us/meeting/register/tZcrc-yrpzwsE9HaxgkbAHDe3
 0WV3KbJNYXn
END:VEVENT
BEGIN:VTIMEZONE
TZID:America/Phoenix
X-LIC-LOCATION:America/Phoenix
BEGIN:STANDARD
DTSTART:20230221T130000
TZOFFSETFROM:-0700
TZOFFSETTO:-0700
TZNAME:MST
END:STANDARD
END:VTIMEZONE
END:VCALENDAR