BEGIN:VCALENDAR
VERSION:2.0
PRODID:-//wp-events-plugin.com//7.2.3.1//EN
TZID:America/Phoenix
X-WR-TIMEZONE:America/Phoenix
BEGIN:VEVENT
UID:291@cacsoaz.org
DTSTART;TZID=America/Phoenix:20250305T120000
DTEND;TZID=America/Phoenix:20250305T133000
DTSTAMP:20250108T174248Z
URL:https://www.cacsoaz.org/events/introduction-to-psychological-first-aid
 /
SUMMARY:Introduction to Psychological First Aid
DESCRIPTION:An overview of the Psychological First Aid intervention\, groun
 ded in humanitarian principles.\n\nRegister direct\, here: https://forms.g
 le/N7kPVdEJqredaYPH9
CATEGORIES:Parent Workshop,Trainings
END:VEVENT
BEGIN:VTIMEZONE
TZID:America/Phoenix
X-LIC-LOCATION:America/Phoenix
BEGIN:STANDARD
DTSTART:20240305T120000
TZOFFSETFROM:-0700
TZOFFSETTO:-0700
TZNAME:MST
END:STANDARD
END:VTIMEZONE
END:VCALENDAR