BEGIN:VCALENDAR
VERSION:2.0
PRODID:-//wp-events-plugin.com//7.2.3.1//EN
TZID:America/Phoenix
X-WR-TIMEZONE:America/Phoenix
BEGIN:VEVENT
UID:288@cacsoaz.org
DTSTART;TZID=America/Phoenix:20250129T153000
DTEND;TZID=America/Phoenix:20250129T170000
DTSTAMP:20250108T172802Z
URL:https://www.cacsoaz.org/events/intro-to-aces-toxic-stress-and-resilien
 ce/
SUMMARY:Intro to ACEs\, Toxic Stress and Resilience
DESCRIPTION:An introductory workshop to the impact of Adverse Childhood Exp
 eriences (ACEs) or childhood trauma\, how toxic stress affects our brains\
 , bodies\, and behaviors\, and how we can counter these long-term effects 
 through building resilience.\n\nRegister here: https://forms.gle/N7kPVdEJq
 redaYPH9
CATEGORIES:Parent Workshop,Trainings
END:VEVENT
BEGIN:VTIMEZONE
TZID:America/Phoenix
X-LIC-LOCATION:America/Phoenix
BEGIN:STANDARD
DTSTART:20240130T153000
TZOFFSETFROM:-0700
TZOFFSETTO:-0700
TZNAME:MST
END:STANDARD
END:VTIMEZONE
END:VCALENDAR