BEGIN:VCALENDAR
VERSION:2.0
PRODID:-//wp-events-plugin.com//7.2.3.1//EN
TZID:America/Phoenix
X-WR-TIMEZONE:America/Phoenix
BEGIN:VEVENT
UID:221@cacsoaz.org
DTSTART;TZID=America/Phoenix:20240419T173000
DTEND;TZID=America/Phoenix:20240419T203000
DTSTAMP:20240112T175605Z
URL:https://www.cacsoaz.org/events/heroes-without-capes-event/
SUMMARY:Heroes Without Capes Awards
DESCRIPTION:For more information\, click here
CATEGORIES:Fundraising Event
LOCATION:Tucson Hilton El Conquistador\, 10000 N Oracle Rd\, Tucson\, AZ\, 
 85704\, United States
GEO:32.387231;-110.957346
X-APPLE-STRUCTURED-LOCATION;VALUE=URI;X-ADDRESS=10000 N Oracle Rd\, Tucson\
 , AZ\, 85704\, United States;X-APPLE-RADIUS=100;X-TITLE=Tucson Hilton El C
 onquistador:geo:32.387231,-110.957346
END:VEVENT
BEGIN:VTIMEZONE
TZID:America/Phoenix
X-LIC-LOCATION:America/Phoenix
BEGIN:STANDARD
DTSTART:20230420T173000
TZOFFSETFROM:-0700
TZOFFSETTO:-0700
TZNAME:MST
END:STANDARD
END:VTIMEZONE
END:VCALENDAR