BEGIN:VCALENDAR
VERSION:2.0
PRODID:-//wp-events-plugin.com//7.2.3.1//EN
TZID:America/Phoenix
X-WR-TIMEZONE:America/Phoenix
BEGIN:VEVENT
UID:89@cacsoaz.org
DTSTART;TZID=America/Phoenix:20230917T130000
DTEND;TZID=America/Phoenix:20230917T160000
DTSTAMP:20230807T185824Z
URL:https://www.cacsoaz.org/events/celebration-of-resilience-event/
SUMMARY:Celebration of Resilience Event
DESCRIPTION:A free community event highlighting the "Resilience" film docum
 entary as well as live performances by Tucson Student Ministries. The "Res
 ilience" film documents the start of the Adverse Childhood Experiences (AC
 ES) movement and shows how programs around the country are fighting back a
 gainst the long-term effects of childhood trauma by building more resilien
 t families and communities.\n\nBe inspired by the power of community resil
 ience - and discover how you can make a positive difference.\n\nRegister t
 hrough EventBrite to save your spot today.
ATTACH;FMTTYPE=image/jpeg:https://www.cacsoaz.org/wp-content/uploads/2023/
 08/A-Celebration-of-resilience-1.png
CATEGORIES:Outreach Events,Trainings
LOCATION:The Loft Cinema\, 3233 E Speedway Blvd\, Tucson\, Arizona\, 85716\
 , United States
GEO:32.236506;-110.923608
X-APPLE-STRUCTURED-LOCATION;VALUE=URI;X-ADDRESS=3233 E Speedway Blvd\, Tucs
 on\, Arizona\, 85716\, United States;X-APPLE-RADIUS=100;X-TITLE=The Loft C
 inema:geo:32.236506,-110.923608
END:VEVENT
BEGIN:VTIMEZONE
TZID:America/Phoenix
X-LIC-LOCATION:America/Phoenix
BEGIN:STANDARD
DTSTART:20220917T130000
TZOFFSETFROM:-0700
TZOFFSETTO:-0700
TZNAME:MST
END:STANDARD
END:VTIMEZONE
END:VCALENDAR