BEGIN:VCALENDAR
VERSION:2.0
PRODID:-//wp-events-plugin.com//7.2.3.1//EN
TZID:America/Phoenix
X-WR-TIMEZONE:America/Phoenix
BEGIN:VEVENT
UID:228@cacsoaz.org
DTSTART;TZID=America/Phoenix:20240309T100000
DTEND;TZID=America/Phoenix:20240309T120000
DTSTAMP:20240209T183613Z
URL:https://www.cacsoaz.org/events/birthdays-mothers-day-and-holidays-the-
 impact-of-children-separated-from-mothers/
SUMMARY:Birthdays\, Mother's Day\, and Holidays - The Impact of Children Se
 parated from Mothers
DESCRIPTION:A trauma-informed parenting workshop for parents and caregivers
  raising other people's children. Holidays are often triggers for children
  who have been separated from their birth mothers. Understand why\, as wel
 l as how to support these children through this season.\n\nTaught by Anna 
 Loebe\, Ed.D\, from her own experience and research. Contact Anna with que
 stions at: aloebe@soazadvocacy.org.
ATTACH;FMTTYPE=image/jpeg:https://www.cacsoaz.org/wp-content/uploads/2021/
 01/extended-family_900.jpg
CATEGORIES:Parent Workshop
LOCATION:Children's Advocacy Center\, 2329 E Ajo Way\, Tucson\, AZ\, 85713\
 , United States
GEO:32.178787;-110.936227
X-APPLE-STRUCTURED-LOCATION;VALUE=URI;X-ADDRESS=2329 E Ajo Way\, Tucson\, A
 Z\, 85713\, United States;X-APPLE-RADIUS=100;X-TITLE=Children's Advocacy C
 enter:geo:32.178787,-110.936227
END:VEVENT
BEGIN:VTIMEZONE
TZID:America/Phoenix
X-LIC-LOCATION:America/Phoenix
BEGIN:STANDARD
DTSTART:20230310T100000
TZOFFSETFROM:-0700
TZOFFSETTO:-0700
TZNAME:MST
END:STANDARD
END:VTIMEZONE
END:VCALENDAR