BEGIN:VCALENDAR
VERSION:2.0
PRODID:-//wp-events-plugin.com//7.2.3.1//EN
TZID:America/Phoenix
X-WR-TIMEZONE:America/Phoenix
BEGIN:VEVENT
UID:177@cacsoaz.org
DTSTART;TZID=America/Phoenix:20240113T100000
DTEND;TZID=America/Phoenix:20240113T120000
DTSTAMP:20240105T154110Z
URL:https://www.cacsoaz.org/events/becoming-trauma-informed-while-doing-th
 e-laundry/
SUMMARY:Becoming Trauma-Informed While Doing the Laundry
DESCRIPTION:If you are raising a child with trauma\, do you find yourself c
 hallenged even though you chose and love the child? Can't figure out why y
 our child is calm and loving one moment\, and escalated all of a sudden? R
 eward and punishment parenting and logic parenting models not working for 
 you? This presentation will introduce four prominent researchers and pract
 itioners who can help you understand how trauma affects children's develop
 ment\, learning\, and behavior. Get started on your road to being a Trauma
 -Informed parent... while you sort and fold the laundry!\n\nPresented by A
 nna Loebe\, Ed.D\n\nSpace is limited and no childcare is available. Please
  contact Anna to register at: 520-724-5448 or aloebe@soazadvocacy.org.
ATTACH;FMTTYPE=image/jpeg:https://www.cacsoaz.org/wp-content/uploads/2021/
 01/gustavo-alves-YOXSC4zRcxw-unsplash_800.jpg
CATEGORIES:Parent Workshop
LOCATION:Children's Advocacy Center\, 2329 E Ajo Way\, Tucson\, AZ\, 85713\
 , United States
GEO:32.178787;-110.936227
X-APPLE-STRUCTURED-LOCATION;VALUE=URI;X-ADDRESS=2329 E Ajo Way\, Tucson\, A
 Z\, 85713\, United States;X-APPLE-RADIUS=100;X-TITLE=Children's Advocacy C
 enter:geo:32.178787,-110.936227
END:VEVENT
BEGIN:VTIMEZONE
TZID:America/Phoenix
X-LIC-LOCATION:America/Phoenix
BEGIN:STANDARD
DTSTART:20230113T100000
TZOFFSETFROM:-0700
TZOFFSETTO:-0700
TZNAME:MST
END:STANDARD
END:VTIMEZONE
END:VCALENDAR