BEGIN:VCALENDAR
VERSION:2.0
PRODID:-//wp-events-plugin.com//7.2.3.1//EN
TZID:America/Phoenix
X-WR-TIMEZONE:America/Phoenix
BEGIN:VEVENT
UID:284@cacsoaz.org
DTSTART;TZID=America/Phoenix:20240929T073000
DTEND;TZID=America/Phoenix:20240929T170000
DTSTAMP:20240702T175851Z
URL:https://www.cacsoaz.org/events/11th-annual-golf-tournament/
SUMMARY:11th Annual Golf Tournament
DESCRIPTION:
CATEGORIES:Fundraising Event
END:VEVENT
BEGIN:VTIMEZONE
TZID:America/Phoenix
X-LIC-LOCATION:America/Phoenix
BEGIN:STANDARD
DTSTART:20230930T073000
TZOFFSETFROM:-0700
TZOFFSETTO:-0700
TZNAME:MST
END:STANDARD
END:VTIMEZONE
END:VCALENDAR